BEGIN:VCALENDAR
VERSION:2.0
PRODID:-//Northern California Reined Cow Horse Association - ECPv6.15.18//NONSGML v1.0//EN
CALSCALE:GREGORIAN
METHOD:PUBLISH
X-WR-CALNAME:Northern California Reined Cow Horse Association
X-ORIGINAL-URL:https://www.ncrcha.info
X-WR-CALDESC:Events for Northern California Reined Cow Horse Association
REFRESH-INTERVAL;VALUE=DURATION:PT1H
X-Robots-Tag:noindex
X-PUBLISHED-TTL:PT1H
BEGIN:VTIMEZONE
TZID:America/Los_Angeles
BEGIN:DAYLIGHT
TZOFFSETFROM:-0800
TZOFFSETTO:-0700
TZNAME:PDT
DTSTART:20250309T100000
END:DAYLIGHT
BEGIN:STANDARD
TZOFFSETFROM:-0700
TZOFFSETTO:-0800
TZNAME:PST
DTSTART:20251102T090000
END:STANDARD
BEGIN:DAYLIGHT
TZOFFSETFROM:-0800
TZOFFSETTO:-0700
TZNAME:PDT
DTSTART:20260308T100000
END:DAYLIGHT
BEGIN:STANDARD
TZOFFSETFROM:-0700
TZOFFSETTO:-0800
TZNAME:PST
DTSTART:20261101T090000
END:STANDARD
BEGIN:DAYLIGHT
TZOFFSETFROM:-0800
TZOFFSETTO:-0700
TZNAME:PDT
DTSTART:20270314T100000
END:DAYLIGHT
BEGIN:STANDARD
TZOFFSETFROM:-0700
TZOFFSETTO:-0800
TZNAME:PST
DTSTART:20271107T090000
END:STANDARD
END:VTIMEZONE
BEGIN:VEVENT
DTSTART;VALUE=DATE:20260522
DTEND;VALUE=DATE:20260525
DTSTAMP:20260424T100706
CREATED:20251001T185029Z
LAST-MODIFIED:20251001T185029Z
UID:3292-1779408000-1779667199@www.ncrcha.info
SUMMARY:NCRCHA Show - May 2026
DESCRIPTION:Don’t miss this chance to sharpen up your ropin’ and steer stoppin’ skills for the NCRHCA August Cowboy Class!  Clinic is 2 full days and limited to 10 riders.  You will learn rope handling\, rate\, accuracy and some style & safety pointers too!  If you have ever wanted to give roping a try\, this is your opportunity!  First come\, First serve\, payment in full reserves your spot.  Rider spots are non-refundable but they are transferable. 								\n				\n				\n				\n							\n							\n											\n\n												\n													\n										Click or tap to sign up
URL:https://www.ncrcha.info/event/ncrcha-show-may-2026/
LOCATION:The Equestrian Center at Rolling Hills Casino and Resort\, 2655 Everett Freeman Way\, Corning\, CA\, 96021\, United States
END:VEVENT
BEGIN:VEVENT
DTSTART;VALUE=DATE:20260731
DTEND;VALUE=DATE:20260803
DTSTAMP:20260424T100706
CREATED:20251001T185100Z
LAST-MODIFIED:20251001T185100Z
UID:3294-1785456000-1785715199@www.ncrcha.info
SUMMARY:NCRCHA Show - July 2026
DESCRIPTION:Don’t miss this chance to sharpen up your ropin’ and steer stoppin’ skills for the NCRHCA August Cowboy Class!  Clinic is 2 full days and limited to 10 riders.  You will learn rope handling\, rate\, accuracy and some style & safety pointers too!  If you have ever wanted to give roping a try\, this is your opportunity!  First come\, First serve\, payment in full reserves your spot.  Rider spots are non-refundable but they are transferable. 								\n				\n				\n				\n							\n							\n											\n\n												\n													\n										Click or tap to sign up
URL:https://www.ncrcha.info/event/ncrcha-show-july-2026/
LOCATION:The Equestrian Center at Rolling Hills Casino and Resort\, 2655 Everett Freeman Way\, Corning\, CA\, 96021\, United States
END:VEVENT
BEGIN:VEVENT
DTSTART;VALUE=DATE:20261023
DTEND;VALUE=DATE:20261026
DTSTAMP:20260424T100706
CREATED:20251001T185131Z
LAST-MODIFIED:20251001T185131Z
UID:3296-1792713600-1792972799@www.ncrcha.info
SUMMARY:NCRCHA Show - October 2026
DESCRIPTION:Don’t miss this chance to sharpen up your ropin’ and steer stoppin’ skills for the NCRHCA August Cowboy Class!  Clinic is 2 full days and limited to 10 riders.  You will learn rope handling\, rate\, accuracy and some style & safety pointers too!  If you have ever wanted to give roping a try\, this is your opportunity!  First come\, First serve\, payment in full reserves your spot.  Rider spots are non-refundable but they are transferable. 								\n				\n				\n				\n							\n							\n											\n\n												\n													\n										Click or tap to sign up
URL:https://www.ncrcha.info/event/ncrcha-show-october-2026/
LOCATION:The Equestrian Center at Rolling Hills Casino and Resort\, 2655 Everett Freeman Way\, Corning\, CA\, 96021\, United States
END:VEVENT
END:VCALENDAR